BEGIN:VCALENDAR
VERSION:2.0
PRODID:-//Wichtelwald - ECPv6.15.20//NONSGML v1.0//EN
CALSCALE:GREGORIAN
METHOD:PUBLISH
X-WR-CALNAME:Wichtelwald
X-ORIGINAL-URL:https://www.wichtelwald.at
X-WR-CALDESC:Veranstaltungen für Wichtelwald
REFRESH-INTERVAL;VALUE=DURATION:PT1H
X-Robots-Tag:noindex
X-PUBLISHED-TTL:PT1H
BEGIN:VTIMEZONE
TZID:Europe/Vienna
BEGIN:DAYLIGHT
TZOFFSETFROM:+0100
TZOFFSETTO:+0200
TZNAME:CEST
DTSTART:20230326T010000
END:DAYLIGHT
BEGIN:STANDARD
TZOFFSETFROM:+0200
TZOFFSETTO:+0100
TZNAME:CET
DTSTART:20231029T010000
END:STANDARD
BEGIN:DAYLIGHT
TZOFFSETFROM:+0100
TZOFFSETTO:+0200
TZNAME:CEST
DTSTART:20240331T010000
END:DAYLIGHT
BEGIN:STANDARD
TZOFFSETFROM:+0200
TZOFFSETTO:+0100
TZNAME:CET
DTSTART:20241027T010000
END:STANDARD
BEGIN:DAYLIGHT
TZOFFSETFROM:+0100
TZOFFSETTO:+0200
TZNAME:CEST
DTSTART:20250330T010000
END:DAYLIGHT
BEGIN:STANDARD
TZOFFSETFROM:+0200
TZOFFSETTO:+0100
TZNAME:CET
DTSTART:20251026T010000
END:STANDARD
END:VTIMEZONE
BEGIN:VEVENT
DTSTART;TZID=Europe/Vienna:20240814T200000
DTEND;TZID=Europe/Vienna:20240814T210000
DTSTAMP:20260421T132038
CREATED:20240711T091729Z
LAST-MODIFIED:20240711T091729Z
UID:2053-1723665600-1723669200@www.wichtelwald.at
SUMMARY:Yoga Nidra am Mittwoch
DESCRIPTION:
URL:https://www.wichtelwald.at/event/yoga-nidra-am-mittwoch-12/
LOCATION:Online
END:VEVENT
BEGIN:VEVENT
DTSTART;TZID=Europe/Vienna:20240820T193000
DTEND;TZID=Europe/Vienna:20240820T203000
DTSTAMP:20260421T132038
CREATED:20240711T092158Z
LAST-MODIFIED:20240711T092158Z
UID:2058-1724182200-1724185800@www.wichtelwald.at
SUMMARY:GRATIS Schnupperstunde - Yoga Nidra
DESCRIPTION:
URL:https://www.wichtelwald.at/event/gratis-schnupperstunde-yoga-nidra/
LOCATION:Online
END:VEVENT
BEGIN:VEVENT
DTSTART;TZID=Europe/Vienna:20240821T200000
DTEND;TZID=Europe/Vienna:20240821T210000
DTSTAMP:20260421T132038
CREATED:20240711T091833Z
LAST-MODIFIED:20240711T091842Z
UID:2055-1724270400-1724274000@www.wichtelwald.at
SUMMARY:Yoga Nidra am Mittwoch
DESCRIPTION:
URL:https://www.wichtelwald.at/event/yoga-nidra-am-mittwoch-13/
LOCATION:Online
END:VEVENT
END:VCALENDAR