BEGIN:VCALENDAR
VERSION:2.0
PRODID:-//Wichtelwald - ECPv6.15.20//NONSGML v1.0//EN
CALSCALE:GREGORIAN
METHOD:PUBLISH
X-WR-CALNAME:Wichtelwald
X-ORIGINAL-URL:https://www.wichtelwald.at
X-WR-CALDESC:Veranstaltungen für Wichtelwald
REFRESH-INTERVAL;VALUE=DURATION:PT1H
X-Robots-Tag:noindex
X-PUBLISHED-TTL:PT1H
BEGIN:VTIMEZONE
TZID:Europe/Vienna
BEGIN:DAYLIGHT
TZOFFSETFROM:+0100
TZOFFSETTO:+0200
TZNAME:CEST
DTSTART:20230326T010000
END:DAYLIGHT
BEGIN:STANDARD
TZOFFSETFROM:+0200
TZOFFSETTO:+0100
TZNAME:CET
DTSTART:20231029T010000
END:STANDARD
BEGIN:DAYLIGHT
TZOFFSETFROM:+0100
TZOFFSETTO:+0200
TZNAME:CEST
DTSTART:20240331T010000
END:DAYLIGHT
BEGIN:STANDARD
TZOFFSETFROM:+0200
TZOFFSETTO:+0100
TZNAME:CET
DTSTART:20241027T010000
END:STANDARD
BEGIN:DAYLIGHT
TZOFFSETFROM:+0100
TZOFFSETTO:+0200
TZNAME:CEST
DTSTART:20250330T010000
END:DAYLIGHT
BEGIN:STANDARD
TZOFFSETFROM:+0200
TZOFFSETTO:+0100
TZNAME:CET
DTSTART:20251026T010000
END:STANDARD
END:VTIMEZONE
BEGIN:VEVENT
DTSTART;TZID=Europe/Vienna:20240619T200000
DTEND;TZID=Europe/Vienna:20240619T210000
DTSTAMP:20260423T115331
CREATED:20240621T150824Z
LAST-MODIFIED:20240621T150824Z
UID:1945-1718827200-1718830800@www.wichtelwald.at
SUMMARY:Yoga Nidra am Mittwoch
DESCRIPTION:
URL:https://www.wichtelwald.at/event/yoga-nidra-am-mittwoch-6/
LOCATION:Online
END:VEVENT
BEGIN:VEVENT
DTSTART;TZID=Europe/Vienna:20240626T200000
DTEND;TZID=Europe/Vienna:20240626T210000
DTSTAMP:20260423T115331
CREATED:20240621T150931Z
LAST-MODIFIED:20240621T151546Z
UID:1947-1719432000-1719435600@www.wichtelwald.at
SUMMARY:Yoga Nidra am Mittwoch
DESCRIPTION:
URL:https://www.wichtelwald.at/event/yoga-nidra-am-mittwoch-7/
LOCATION:Online
END:VEVENT
END:VCALENDAR