BEGIN:VCALENDAR
VERSION:2.0
PRODID:-//Wichtelwald - ECPv6.15.20//NONSGML v1.0//EN
CALSCALE:GREGORIAN
METHOD:PUBLISH
X-ORIGINAL-URL:https://www.wichtelwald.at
X-WR-CALDESC:Veranstaltungen für Wichtelwald
REFRESH-INTERVAL;VALUE=DURATION:PT1H
X-Robots-Tag:noindex
X-PUBLISHED-TTL:PT1H
BEGIN:VTIMEZONE
TZID:Europe/Vienna
BEGIN:DAYLIGHT
TZOFFSETFROM:+0100
TZOFFSETTO:+0200
TZNAME:CEST
DTSTART:20250330T010000
END:DAYLIGHT
BEGIN:STANDARD
TZOFFSETFROM:+0200
TZOFFSETTO:+0100
TZNAME:CET
DTSTART:20251026T010000
END:STANDARD
BEGIN:DAYLIGHT
TZOFFSETFROM:+0100
TZOFFSETTO:+0200
TZNAME:CEST
DTSTART:20260329T010000
END:DAYLIGHT
BEGIN:STANDARD
TZOFFSETFROM:+0200
TZOFFSETTO:+0100
TZNAME:CET
DTSTART:20261025T010000
END:STANDARD
BEGIN:DAYLIGHT
TZOFFSETFROM:+0100
TZOFFSETTO:+0200
TZNAME:CEST
DTSTART:20270328T010000
END:DAYLIGHT
BEGIN:STANDARD
TZOFFSETFROM:+0200
TZOFFSETTO:+0100
TZNAME:CET
DTSTART:20271031T010000
END:STANDARD
END:VTIMEZONE
BEGIN:VEVENT
DTSTART;TZID=Europe/Vienna:20260113T180000
DTEND;TZID=Europe/Vienna:20260113T190000
DTSTAMP:20260424T012559
CREATED:20251228T182511Z
LAST-MODIFIED:20251228T184051Z
UID:2529-1768327200-1768330800@www.wichtelwald.at
SUMMARY:Flex & Relax Yoga
DESCRIPTION:
URL:https://www.wichtelwald.at/event/flex-relax-yoga-15/
LOCATION:Online
END:VEVENT
BEGIN:VEVENT
DTSTART;TZID=Europe/Vienna:20260113T191500
DTEND;TZID=Europe/Vienna:20260113T201500
DTSTAMP:20260424T012559
CREATED:20251228T184203Z
LAST-MODIFIED:20251228T184203Z
UID:2531-1768331700-1768335300@www.wichtelwald.at
SUMMARY:Yoga Nidra am Abend
DESCRIPTION:
URL:https://www.wichtelwald.at/event/yoga-nidra-am-abend-32/
LOCATION:Online
END:VEVENT
END:VCALENDAR